BEGIN:VCALENDAR
VERSION:2.0
PRODID:-//SP9ZHP - ECPv6.15.20//NONSGML v1.0//EN
CALSCALE:GREGORIAN
METHOD:PUBLISH
X-WR-CALNAME:SP9ZHP
X-ORIGINAL-URL:https://sp9zhp.pl
X-WR-CALDESC:Wydarzenia dla SP9ZHP
REFRESH-INTERVAL;VALUE=DURATION:PT1H
X-Robots-Tag:noindex
X-PUBLISHED-TTL:PT1H
BEGIN:VTIMEZONE
TZID:Europe/Warsaw
BEGIN:DAYLIGHT
TZOFFSETFROM:+0100
TZOFFSETTO:+0200
TZNAME:CEST
DTSTART:20230326T010000
END:DAYLIGHT
BEGIN:STANDARD
TZOFFSETFROM:+0200
TZOFFSETTO:+0100
TZNAME:CET
DTSTART:20231029T010000
END:STANDARD
BEGIN:DAYLIGHT
TZOFFSETFROM:+0100
TZOFFSETTO:+0200
TZNAME:CEST
DTSTART:20240331T010000
END:DAYLIGHT
BEGIN:STANDARD
TZOFFSETFROM:+0200
TZOFFSETTO:+0100
TZNAME:CET
DTSTART:20241027T010000
END:STANDARD
BEGIN:DAYLIGHT
TZOFFSETFROM:+0100
TZOFFSETTO:+0200
TZNAME:CEST
DTSTART:20250330T010000
END:DAYLIGHT
BEGIN:STANDARD
TZOFFSETFROM:+0200
TZOFFSETTO:+0100
TZNAME:CET
DTSTART:20251026T010000
END:STANDARD
END:VTIMEZONE
BEGIN:VEVENT
DTSTART;TZID=Europe/Warsaw:20240426T100000
DTEND;TZID=Europe/Warsaw:20240426T110000
DTSTAMP:20260425T032202
CREATED:20240324T120437Z
LAST-MODIFIED:20240324T122652Z
UID:3253-1714125600-1714129200@sp9zhp.pl
SUMMARY:HarcQso - edycja druga
DESCRIPTION:
URL:https://sp9zhp.pl/event/harcqso-edycja-druga/
CATEGORIES:Testy
END:VEVENT
END:VCALENDAR