BEGIN:VCALENDAR
VERSION:2.0
PRODID:-//SP9ZHP - ECPv6.15.20//NONSGML v1.0//EN
CALSCALE:GREGORIAN
METHOD:PUBLISH
X-ORIGINAL-URL:https://sp9zhp.pl
X-WR-CALDESC:Wydarzenia dla SP9ZHP
REFRESH-INTERVAL;VALUE=DURATION:PT1H
X-Robots-Tag:noindex
X-PUBLISHED-TTL:PT1H
BEGIN:VTIMEZONE
TZID:Europe/Warsaw
BEGIN:DAYLIGHT
TZOFFSETFROM:+0100
TZOFFSETTO:+0200
TZNAME:CEST
DTSTART:20240331T010000
END:DAYLIGHT
BEGIN:STANDARD
TZOFFSETFROM:+0200
TZOFFSETTO:+0100
TZNAME:CET
DTSTART:20241027T010000
END:STANDARD
BEGIN:DAYLIGHT
TZOFFSETFROM:+0100
TZOFFSETTO:+0200
TZNAME:CEST
DTSTART:20250330T010000
END:DAYLIGHT
BEGIN:STANDARD
TZOFFSETFROM:+0200
TZOFFSETTO:+0100
TZNAME:CET
DTSTART:20251026T010000
END:STANDARD
BEGIN:DAYLIGHT
TZOFFSETFROM:+0100
TZOFFSETTO:+0200
TZNAME:CEST
DTSTART:20260329T010000
END:DAYLIGHT
BEGIN:STANDARD
TZOFFSETFROM:+0200
TZOFFSETTO:+0100
TZNAME:CET
DTSTART:20261025T010000
END:STANDARD
END:VTIMEZONE
BEGIN:VEVENT
DTSTART;VALUE=DATE:20250208
DTEND;VALUE=DATE:20250209
DTSTAMP:20260422T042623
CREATED:20250101T185059Z
LAST-MODIFIED:20250101T185059Z
UID:3326-1738972800-1739059199@sp9zhp.pl
SUMMARY:Łącznościowy trójkąt
DESCRIPTION:Kurs radiooperatorów \nWarsztaty dla nasłuchowców \nWarsztaty z budowy prostych anten
URL:https://sp9zhp.pl/event/lacznosciowy-trojkat/
LOCATION:Ośrodek Harcerski w Chorzowie\, Hotel SKAUT\, al. Harcerska 3\, Chorzów\, Śląskie
CATEGORIES:Szkolenia
END:VEVENT
BEGIN:VEVENT
DTSTART;VALUE=DATE:20250222
DTEND;VALUE=DATE:20250223
DTSTAMP:20260422T042623
CREATED:20250101T185312Z
LAST-MODIFIED:20250101T185312Z
UID:3330-1740182400-1740268799@sp9zhp.pl
SUMMARY:DMB on the Air
DESCRIPTION:Zawody krótkofalarskie dla nasłuchowców
URL:https://sp9zhp.pl/event/dmb-on-the-air/
END:VEVENT
END:VCALENDAR